BEGIN:VCALENDAR
VERSION:2.0
PRODID:SchoolNow
CALSCALE:GREGORIAN
BEGIN:VEVENT
UID:0903f70c-fa41-11e9-ae04-0ae1ddb37841
DTSTAMP:20191114T112134Z
SUMMARY:CDD Board Meeting - Sep. 2018
LOCATION:Magnolia House Sports Pavilion\, 100 Falling Acorn Avenue Grovelan
 d \, FL 34746\, United States
URL;VALUE=URI:https://www.cascadesatgrovelandcdd.org/calendar/2134621/cdd-b
 oard-meeting-sep-2018
DTSTART:20180919T180000Z
DTEND:20180919T200000Z
END:VEVENT
END:VCALENDAR
