BEGIN:VCALENDAR
VERSION:2.0
PRODID:SchoolNow
CALSCALE:GREGORIAN
BEGIN:VEVENT
UID:2d41a4a2-fa41-11e9-bfb9-0ae1ddb37841
DTSTAMP:20191114T112113Z
SUMMARY:CDD Board Meeting - Oct. 2018
LOCATION:Magnolia House Sports Pavilion\, 100 Falling Acorn Avenue Grovelan
 d \, FL 34746\, United States
URL;VALUE=URI:https://www.cascadesatgrovelandcdd.org/calendar/2134622/cdd-b
 oard-meeting-oct-2018
DTSTART:20181017T180000Z
DTEND:20181017T200000Z
END:VEVENT
END:VCALENDAR
