BEGIN:VCALENDAR
VERSION:2.0
PRODID:SchoolNow
CALSCALE:GREGORIAN
BEGIN:VEVENT
UID:51b53330-fa41-11e9-bbb3-0ae1ddb37841
DTSTAMP:20191114T112054Z
SUMMARY:CDD Board Meeting - Nov. 2018
LOCATION:Magnolia House Sports Pavilion\, 100 Falling Acorn Avenue Grovelan
 d \, FL 34746\, United States
URL;VALUE=URI:https://www.cascadesatgrovelandcdd.org/calendar/2134623/cdd-b
 oard-meeting-nov-2018
DTSTART:20181121T190000Z
DTEND:20181121T210000Z
END:VEVENT
END:VCALENDAR
