BEGIN:VCALENDAR
VERSION:2.0
PRODID:SchoolNow
CALSCALE:GREGORIAN
BEGIN:VEVENT
UID:715afe7c-fa41-11e9-98a1-0ae1ddb37841
DTSTAMP:20191114T112039Z
SUMMARY:CDD Board Meeting - Dec. 2018
LOCATION:Magnolia House Sports Pavilion\, 100 Falling Acorn Avenue Grovelan
 d \, FL 34746\, United States
URL;VALUE=URI:https://www.cascadesatgrovelandcdd.org/calendar/2134624/cdd-b
 oard-meeting-dec-2018
DTSTART:20181219T190000Z
DTEND:20181219T210000Z
END:VEVENT
END:VCALENDAR
