BEGIN:VCALENDAR
VERSION:2.0
PRODID:SchoolNow
CALSCALE:GREGORIAN
BEGIN:VEVENT
UID:9b68bfb0-fa41-11e9-ba56-0ae1ddb37841
DTSTAMP:20191114T112018Z
SUMMARY:CDD Board Meeting - Jan. 2019
LOCATION:Magnolia House Sports Pavilion\, 100 Falling Acorn Avenue Grovelan
 d \, FL 34746\, United States
URL;VALUE=URI:https://www.cascadesatgrovelandcdd.org/calendar/2134625/cdd-b
 oard-meeting-jan-2019
DTSTART:20190116T190000Z
DTEND:20190116T210000Z
END:VEVENT
END:VCALENDAR
