BEGIN:VCALENDAR
VERSION:2.0
PRODID:SchoolNow
CALSCALE:GREGORIAN
BEGIN:VEVENT
UID:c35ada9e-fa41-11e9-bd91-0ae1ddb37841
DTSTAMP:20191114T111958Z
SUMMARY:CDD Board Meeting - Feb. 2019
LOCATION:Magnolia House Sports Pavilion\, 100 Falling Acorn Avenue Grovelan
 d \, FL 34746\, United States
URL;VALUE=URI:https://www.cascadesatgrovelandcdd.org/calendar/2134628/cdd-b
 oard-meeting-feb-2019
DTSTART:20190220T190000Z
DTEND:20190220T210000Z
END:VEVENT
END:VCALENDAR
