BEGIN:VCALENDAR
VERSION:2.0
PRODID:SchoolNow
CALSCALE:GREGORIAN
BEGIN:VEVENT
UID:e4d8a1ec-fa41-11e9-a669-0ae1ddb37841
DTSTAMP:20191114T111942Z
SUMMARY:CDD Board Meeting - Mar. 2019
LOCATION:Magnolia House Sports Pavilion\, 100 Falling Acorn Avenue Grovelan
 d \, FL 34746\, United States
URL;VALUE=URI:https://www.cascadesatgrovelandcdd.org/calendar/2134630/cdd-b
 oard-meeting-mar-2019
DTSTART:20190320T180000Z
DTEND:20190320T200000Z
END:VEVENT
END:VCALENDAR
