BEGIN:VCALENDAR
VERSION:2.0
PRODID:SchoolNow
CALSCALE:GREGORIAN
BEGIN:VEVENT
UID:082ff992-fa42-11e9-8933-0ae1ddb37841
DTSTAMP:20191114T111922Z
SUMMARY:CDD Board Meeting - Apr. 2019
LOCATION:Magnolia House Sports Pavilion\, 100 Falling Acorn Avenue Grovelan
 d \, FL 34746\, United States
URL;VALUE=URI:https://www.cascadesatgrovelandcdd.org/calendar/2134632/cdd-b
 oard-meeting-apr-2019
DTSTART:20190417T180000Z
DTEND:20190417T200000Z
END:VEVENT
END:VCALENDAR
