BEGIN:VCALENDAR
VERSION:2.0
PRODID:SchoolNow
CALSCALE:GREGORIAN
BEGIN:VEVENT
UID:21cf00c8-fa42-11e9-90f4-0ae1ddb37841
DTSTAMP:20191114T112235Z
SUMMARY:CDD Board Meeting - May 2019
LOCATION:Magnolia House Sports Pavilion\, 100 Falling Acorn Avenue Grovelan
 d \, FL 34746\, United States
URL;VALUE=URI:https://www.cascadesatgrovelandcdd.org/calendar/2134634/cdd-b
 oard-meeting-may-2019
DTSTART:20190515T180000Z
DTEND:20190515T200000Z
END:VEVENT
END:VCALENDAR
