BEGIN:VCALENDAR
VERSION:2.0
PRODID:SchoolNow
CALSCALE:GREGORIAN
BEGIN:VEVENT
UID:030da620-fa43-11e9-95bf-0ae1ddb37841
DTSTAMP:20200305T133443Z
SUMMARY:CDD Board Meeting - Mar. 2020 - Cancelled
LOCATION:Magnolia House Sports Pavilion\, 100 Falling Acorn Avenue Grovelan
 d \, FL 34746\, United States
URL;VALUE=URI:https://www.cascadesatgrovelandcdd.org/calendar/2134647/cdd-b
 oard-meeting-mar-2020-cancelled
DTSTART:20200318T180000Z
DTEND:20200318T200000Z
END:VEVENT
END:VCALENDAR
