BEGIN:VCALENDAR
VERSION:2.0
PRODID:SchoolNow
CALSCALE:GREGORIAN
BEGIN:VEVENT
UID:29a8a0fa-fa43-11e9-8c29-0ae1ddb37841
DTSTAMP:20200520T133622Z
SUMMARY:CDD Board Meeting - May 2020 - Teleconference Meeting Only
LOCATION:Meeting Teleconference Number: 1-929-205-6099\; Meeting ID 988 468
 0 0220
URL;VALUE=URI:https://www.cascadesatgrovelandcdd.org/calendar/2134649/cdd-b
 oard-meeting-may-2020-teleconference-meeting-only
DTSTART:20200520T180000Z
DTEND:20200520T200000Z
ATTACH;FILENAME=2020-05-20 Board Meeting Packet.pdf;FMTTYPE=application/pdf
 :https://campussuite-storage.s3.amazonaws.com/prod/1558926/58ba5804-eaab-1
 1e9-9000-0aa01e52b234/2098017/de329936-9561-11ea-a30e-0a1debf6440f/file/20
 20-05-20 Board Meeting Packet.pdf
END:VEVENT
END:VCALENDAR
