BEGIN:VCALENDAR
VERSION:2.0
PRODID:SchoolNow
CALSCALE:GREGORIAN
BEGIN:VEVENT
UID:95143ffe-490b-11ef-8f09-02dcbbca1941
DTSTAMP:20250716T195124Z
SUMMARY:CDD Board Meeting + Budget Public Hearing - Jul. 2025
LOCATION:Magnolia House Sports Pavilion\, located at 100 Falling Acorn Aven
 ue\, Groveland\, FL 34746
URL;VALUE=URI:https://www.cascadesatgrovelandcdd.org/calendar/6298887/cdd-b
 oard-meeting-jul-2025
DTSTART:20250723T180000Z
DTEND:20250723T190000Z
ATTACH;FILENAME=2025-07-23 Agenda Package.pdf;FMTTYPE=application/pdf:https
 ://campussuite-storage.s3.amazonaws.com/prod/1558926/58ba5804-eaab-11e9-90
 00-0aa01e52b234/2982407/2a3aad48-627e-11f0-8a4e-0a58a9feac02/file/2025-07-
 23 Agenda Package.pdf
END:VEVENT
END:VCALENDAR
