BEGIN:VCALENDAR
VERSION:2.0
PRODID:SchoolNow
CALSCALE:GREGORIAN
BEGIN:VEVENT
UID:4c1e6158-6d6d-11f0-bafd-0afff061a507
DTSTAMP:20251001T192600Z
SUMMARY:CDD Board Meeting - Oct. 2025
LOCATION:Magnolia House Sports Pavilion\, located at 100 Falling Acorn Aven
 ue\, Groveland\, FL 34746
URL;VALUE=URI:https://www.cascadesatgrovelandcdd.org/calendar/8458453/cdd-b
 oard-meeting-oct-2025
DTSTART:20251008T180000Z
DTEND:20251008T190000Z
ATTACH;FILENAME=2025-10-08 Agenda Package.pdf;FMTTYPE=application/pdf:https
 ://campussuite-storage.s3.amazonaws.com/prod/1558926/58ba5804-eaab-11e9-90
 00-0aa01e52b234/3015634/68ba683c-9efc-11f0-8b34-0affe3b30109/file/2025-10-
 08 Agenda Package.pdf
END:VEVENT
END:VCALENDAR
