BEGIN:VCALENDAR
VERSION:2.0
PRODID:SchoolNow
CALSCALE:GREGORIAN
BEGIN:VEVENT
UID:55a22c78-6d6d-11f0-a286-0a58a9feac02
DTSTAMP:20260107T210738Z
SUMMARY:CDD Board Meeting - Jan. 2026
LOCATION:Magnolia House Sports Pavilion\, located at 100 Falling Acorn Aven
 ue\, Groveland\, FL 34746
URL;VALUE=URI:https://www.cascadesatgrovelandcdd.org/calendar/8458454/cdd-b
 oard-meeting-jan-2026
DTSTART:20260114T190000Z
DTEND:20260114T200000Z
ATTACH;FILENAME=2026-01-14 Agenda Package.pdf;FMTTYPE=application/pdf:https
 ://campussuite-storage.s3.amazonaws.com/prod/1558926/58ba5804-eaab-11e9-90
 00-0aa01e52b234/3057943/d7c423aa-ec0c-11f0-b68b-0a58a9feac02/file/2026-01-
 14 Agenda Package.pdf
END:VEVENT
END:VCALENDAR
